BEGIN:VCALENDAR
VERSION:2.0
PRODID:-//Wheatbelt Kids - ECPv4.6.11.1//NONSGML v1.0//EN
CALSCALE:GREGORIAN
METHOD:PUBLISH
X-WR-CALNAME:Wheatbelt Kids
X-ORIGINAL-URL:http://wheatbeltkids.com.au
X-WR-CALDESC:Events for Wheatbelt Kids
BEGIN:VEVENT
DTSTART;TZID=UTC+8:20180303T140000
DTEND;TZID=UTC+8:20180303T203000
DTSTAMP:20180225T084951
CREATED:20180202T152446Z
LAST-MODIFIED:20180202T153305Z
UID:5116-1520085600-1520109000@wheatbeltkids.com.au
SUMMARY:Bruce Rock Community Colour Run
DESCRIPTION:Bruce Rock Community Colour Run\nSaturday 3rd March \nAdults $40\,  Kids $20\,  Family $100 \nUnder 10 years FREE \n  \n  \n  \n
URL:http://wheatbeltkids.com.au/event/bruce-rock-community-colour-run/
LOCATION:Bruce Rock - Quairading Road\, Bruce Rock\, Western Australia\, 6418\, Australia
CATEGORIES:All
ATTACH;FMTTYPE=image/jpeg:http://wheatbeltkids.com.au/wp-content/uploads/2018/02/27072568_1044939135646429_6685437306106090989_n.jpg
END:VEVENT
BEGIN:VEVENT
DTSTART;TZID=UTC+8:20180304T090000
DTEND;TZID=UTC+8:20180304T150000
DTSTAMP:20180225T084951
CREATED:20180202T145900Z
LAST-MODIFIED:20180202T145900Z
UID:5104-1520154000-1520175600@wheatbeltkids.com.au
SUMMARY:Wundowie Motor Mania Show n Shine
DESCRIPTION:Wundowie Motor Mania Show n Shine\nSunday 4th March \n  \n
URL:http://wheatbeltkids.com.au/event/wundowie-motor-mania-show-n-shine/
LOCATION:Boronia Avenue\, Wundowie\, Western Australia\, 6560\, Australia
CATEGORIES:All,Wundowie
ATTACH;FMTTYPE=image/jpeg:http://wheatbeltkids.com.au/wp-content/uploads/2018/02/19642379_1042404559233220_916611858416362643_n.jpg
END:VEVENT
BEGIN:VEVENT
DTSTART;TZID=UTC+8:20180313T170000
DTEND;TZID=UTC+8:20180313T190000
DTSTAMP:20180225T084951
CREATED:20180203T094558Z
LAST-MODIFIED:20180203T094558Z
UID:5147-1520960400-1520967600@wheatbeltkids.com.au
SUMMARY:York Hoops For Youth 2
DESCRIPTION:York Hoops For Youth 2\nTuesday 13th March \nAges 8 – 18 years \n  \n  \n
URL:http://wheatbeltkids.com.au/event/york-hoops-youth-2/
LOCATION:Barker St (via Forrest St)\, York\, Western Australia\, 6302\, Australia
CATEGORIES:All,York
ATTACH;FMTTYPE=image/jpeg:http://wheatbeltkids.com.au/wp-content/uploads/2018/02/27459642_1047155462091463_839893370369122307_n.jpg
END:VEVENT
BEGIN:VEVENT
DTSTART;VALUE=DATE:20180317
DTEND;VALUE=DATE:20180318
DTSTAMP:20180225T084951
CREATED:20180203T092123Z
LAST-MODIFIED:20180203T092533Z
UID:5136-1521244800-1521331199@wheatbeltkids.com.au
SUMMARY:Mukinbudin Community Bank Triathlon
DESCRIPTION:Mukinbudin Community Bank Triathlon\nSaturday 17th March \nEnrollments and cost available from the Mukinbudin CRC \n  \n  \n  \n
URL:http://wheatbeltkids.com.au/event/mukinbudin-community-bank-triathlon/
LOCATION:23 Cruickshank Rd\, Mukinbudin\, Western Australia\, 6479\, Australia
CATEGORIES:All,Mukinbudin
ATTACH;FMTTYPE=image/jpeg:http://wheatbeltkids.com.au/wp-content/uploads/2018/02/26734259_1546156528786896_7922980757777135300_n.jpg
END:VEVENT
BEGIN:VEVENT
DTSTART;TZID=UTC+8:20180407T080000
DTEND;TZID=UTC+8:20180408T170000
DTSTAMP:20180225T084951
CREATED:20180203T095034Z
LAST-MODIFIED:20180203T095345Z
UID:5151-1523088000-1523206800@wheatbeltkids.com.au
SUMMARY:Northam Mitre 10 Flying 50
DESCRIPTION:Northam Mitre 10 Flying 50\nSaturday 7th – Sunday 8th April \n\n
URL:http://wheatbeltkids.com.au/event/northam-mitre-10-flying-50/
LOCATION:Minson Ave\, Northam\, Western Australia\, 6401\, Australia
CATEGORIES:All,Northam
ATTACH;FMTTYPE=image/jpeg:http://wheatbeltkids.com.au/wp-content/uploads/2018/02/26904342_1042042632602746_7537361490955272947_n.jpg
END:VEVENT
END:VCALENDAR